BEGIN:VCALENDAR
VERSION:2.0
PRODID:Albemarle County, VA Calendar Creator
METHOD:PUBLISH
BEGIN:VEVENT
DTSTAMP:20260121T120017
DTSTART:20260126T181500
DTEND:20260126T194500
SUMMARY:Pantops Community Advisory Committee Meeting
DESCRIPTION:<h2>How to Participate in the Meeting</h2><p>To participate online:</p><ul type="disc">    <li>Visit: <a href="https://albemarle-org.zoom.us/j/84073740901/" target="_blank" rel="noopener">https://albemarle-org.zoom.us/j/84073740901</a></li></ul><p>To participate by telephone:</p><ul type="disc">    <li>Dial: 301-715-8592</li>    <li>Webinar ID:&nbsp;840 7374 0901</li></ul><p>&nbsp;</p><h3>Meeting Materials</h3><p><a href="https://albemarle1.prod-as.govaccess.org/home/showpublisheddocument/28773/639045933604600000" target="_blank" rel="noopener">Agenda</a> | Minutes | <a href="https://www.albemarle.org/government/community-development/boards-and-commissions/pantops/-folder-2290-5448" target="_blank" rel="noopener">Additional Materials</a></p><h3>Staff Contact</h3><p>For more information or for help with the virtual meeting, please contact <a href="mailto:&#97;&#119;&#114;&#97;&#98;&#101;&#108;2&#64;&#97;&#108;&#98;&#101;&#109;&#97;&#114;&#108;&#101;&#46;&#111;&#114;&#103;">Allison Wrabel</a></p><p><a href="https://albemarle1.prod-as.govaccess.org/government/community-development/boards-and-commissions/pantops-community-advisory-committee">Visit the </a><a href="https://albemarle1.prod-as.govaccess.org/government/community-development/boards-and-commissions/pantops-community-advisory-committee">Pantops Community Advisory Committee</a><a href="https://albemarle1.prod-as.govaccess.org/government/community-development/boards-and-commissions/pantops-community-advisory-committee">&nbsp;webpage</a></p>
X-ALT-DESC;FMTTYPE=text/html:<h2>How to Participate in the Meeting</h2><p>To participate online:</p><ul type="disc">    <li>Visit: <a href="https://albemarle-org.zoom.us/j/84073740901/" target="_blank" rel="noopener">https://albemarle-org.zoom.us/j/84073740901</a></li></ul><p>To participate by telephone:</p><ul type="disc">    <li>Dial: 301-715-8592</li>    <li>Webinar ID:&nbsp;840 7374 0901</li></ul><p>&nbsp;</p><h3>Meeting Materials</h3><p><a href="https://albemarle1.prod-as.govaccess.org/home/showpublisheddocument/28773/639045933604600000" target="_blank" rel="noopener">Agenda</a> | Minutes | <a href="https://www.albemarle.org/government/community-development/boards-and-commissions/pantops/-folder-2290-5448" target="_blank" rel="noopener">Additional Materials</a></p><h3>Staff Contact</h3><p>For more information or for help with the virtual meeting, please contact <a href="mailto:&#97;&#119;&#114;&#97;&#98;&#101;&#108;2&#64;&#97;&#108;&#98;&#101;&#109;&#97;&#114;&#108;&#101;&#46;&#111;&#114;&#103;">Allison Wrabel</a></p><p><a href="https://albemarle1.prod-as.govaccess.org/government/community-development/boards-and-commissions/pantops-community-advisory-committee">Visit the </a><a href="https://albemarle1.prod-as.govaccess.org/government/community-development/boards-and-commissions/pantops-community-advisory-committee">Pantops Community Advisory Committee</a><a href="https://albemarle1.prod-as.govaccess.org/government/community-development/boards-and-commissions/pantops-community-advisory-committee">&nbsp;webpage</a></p>
LOCATION:Virtual Meeting\, 
CLASS:PUBLIC
END:VEVENT
END:VCALENDAR
