BEGIN:VCALENDAR
VERSION:2.0
PRODID:Albemarle County, VA Calendar Creator
METHOD:PUBLISH
BEGIN:VEVENT
DTSTAMP:20251027T163838
DTSTART:20251030T180000
DTEND:20251030T200000
SUMMARY:Our Community, Our Wellbeing: Understanding the Data
DESCRIPTION:<p data-olk-copy-source="MessageBody">&nbsp;Join us for an evening of learning about the state of wellbeing in our community. This event will feature presentations on three key reports that provide context on the challenges and opportunities we share across the region:</p><ul>    <li>    <p role="presentation"><u><a id="OWA8a597333-42db-13e7-e382-b6faae58c707" data-auth="NotApplicable" href="https://communitypartnerships.github.io/community-wellbeing/" data-linkindex="0" title="https://communitypartnerships.github.io/community-wellbeing/">Community Wellbeing Profile</a></u>: Explore trends in health, education, economic security, and housing in Albemarle County. The profile utilizes the American Human Development Index to provide a comprehensive view of community wellbeing.</p>    </li>    <li>    <p role="presentation"><u><a id="OWA60da0063-cc3a-a6cb-e408-330e8c92a99a" data-auth="NotApplicable" href="https://communitypartnerships.github.io/data-resources/reports/orange-dot-6.html" data-linkindex="1" title="https://communitypartnerships.github.io/data-resources/reports/orange-dot-6.html">Orange Dot Report</a></u>: Learn about the income gap between what families earn and what they need to be self-sufficient. This report highlights key economic pressures households face and helps us understand the local landscape of financial stability and opportunity.</p>    </li>    <li>    <p role="presentation"><u><a id="OWA5855ded4-4963-0a4a-1418-3665cb10cf50" data-auth="NotApplicable" href="https://www.vdh.virginia.gov/blue-ridge/mapp2health/" data-linkindex="2" title="https://www.vdh.virginia.gov/blue-ridge/mapp2health/">MAPP2Health Report</a></u>: The 2025 Community Health Assessment offers insights into local health challenges and the community context that shapes healthier lives.</p>    </li></ul><p>The evening features presentations followed by a Q&amp;A session, providing attendees with an opportunity to explore and discuss the data together. This event is free and open to the public.</p><p><a href="https://forms.office.com/g/eqd0p9248y" target="_blank" rel="noopener">Register to attend in person</a>&nbsp;/ <a href="https://albemarle-org.zoom.us/webinar/register/WN_wrz_rhAKRPWIAlA8Qu4r-g" target="_blank" rel="noopener">Register to attend via Zoom</a></p><p>For more information, please contact&nbsp;<a href="mailto:&#97;&#119;&#114;&#97;&#98;&#101;&#108;2&#64;&#97;&#108;&#98;&#101;&#109;&#97;&#114;&#108;&#101;&#46;&#111;&#114;&#103;">Allison Wrabel</a>&nbsp;or <a href="mailto:&#115;&#103;&#114;&#117;&#105;&#97;&#64;&#97;&#108;&#98;&#101;&#109;&#97;&#114;&#108;&#101;&#46;&#111;&#114;&#103;">Serena Gruia</a></p><p><a href="https://albemarle1.prod-as.govaccess.org/home/showpublisheddocument/28013/638971798530430000" target="_blank" rel="noopener">Agenda</a></p><p><a href="https://albemarle1.prod-as.govaccess.org/government/county-executive/community-advisory-committees-cacs">Visit the Community Advisory Committee Page</a></p>
X-ALT-DESC;FMTTYPE=text/html:<p data-olk-copy-source="MessageBody">&nbsp;Join us for an evening of learning about the state of wellbeing in our community. This event will feature presentations on three key reports that provide context on the challenges and opportunities we share across the region:</p><ul>    <li>    <p role="presentation"><u><a id="OWA8a597333-42db-13e7-e382-b6faae58c707" data-auth="NotApplicable" href="https://communitypartnerships.github.io/community-wellbeing/" data-linkindex="0" title="https://communitypartnerships.github.io/community-wellbeing/">Community Wellbeing Profile</a></u>: Explore trends in health, education, economic security, and housing in Albemarle County. The profile utilizes the American Human Development Index to provide a comprehensive view of community wellbeing.</p>    </li>    <li>    <p role="presentation"><u><a id="OWA60da0063-cc3a-a6cb-e408-330e8c92a99a" data-auth="NotApplicable" href="https://communitypartnerships.github.io/data-resources/reports/orange-dot-6.html" data-linkindex="1" title="https://communitypartnerships.github.io/data-resources/reports/orange-dot-6.html">Orange Dot Report</a></u>: Learn about the income gap between what families earn and what they need to be self-sufficient. This report highlights key economic pressures households face and helps us understand the local landscape of financial stability and opportunity.</p>    </li>    <li>    <p role="presentation"><u><a id="OWA5855ded4-4963-0a4a-1418-3665cb10cf50" data-auth="NotApplicable" href="https://www.vdh.virginia.gov/blue-ridge/mapp2health/" data-linkindex="2" title="https://www.vdh.virginia.gov/blue-ridge/mapp2health/">MAPP2Health Report</a></u>: The 2025 Community Health Assessment offers insights into local health challenges and the community context that shapes healthier lives.</p>    </li></ul><p>The evening features presentations followed by a Q&amp;A session, providing attendees with an opportunity to explore and discuss the data together. This event is free and open to the public.</p><p><a href="https://forms.office.com/g/eqd0p9248y" target="_blank" rel="noopener">Register to attend in person</a>&nbsp;/ <a href="https://albemarle-org.zoom.us/webinar/register/WN_wrz_rhAKRPWIAlA8Qu4r-g" target="_blank" rel="noopener">Register to attend via Zoom</a></p><p>For more information, please contact&nbsp;<a href="mailto:&#97;&#119;&#114;&#97;&#98;&#101;&#108;2&#64;&#97;&#108;&#98;&#101;&#109;&#97;&#114;&#108;&#101;&#46;&#111;&#114;&#103;">Allison Wrabel</a>&nbsp;or <a href="mailto:&#115;&#103;&#114;&#117;&#105;&#97;&#64;&#97;&#108;&#98;&#101;&#109;&#97;&#114;&#108;&#101;&#46;&#111;&#114;&#103;">Serena Gruia</a></p><p><a href="https://albemarle1.prod-as.govaccess.org/home/showpublisheddocument/28013/638971798530430000" target="_blank" rel="noopener">Agenda</a></p><p><a href="https://albemarle1.prod-as.govaccess.org/government/county-executive/community-advisory-committees-cacs">Visit the Community Advisory Committee Page</a></p>
LOCATION:Lane Auditorium\, 401 McIntire Rd Charlottesville\, Virginia 22902
CLASS:PUBLIC
END:VEVENT
END:VCALENDAR
