BEGIN:VCALENDAR
VERSION:2.0
PRODID:Albemarle County, VA Calendar Creator
METHOD:PUBLISH
BEGIN:VEVENT
DTSTAMP:20250429T141300
DTSTART:20250522T180000
DTEND:20250522T200000
SUMMARY:AC44 Community Check-In: Let's Talk About the Draft Transportation Chapter
DESCRIPTION:<p>Everyone is invited to join us for an informative presentation on the AC44 Comprehensive Plan where community members will gain valuable insights into the following key areas:&nbsp;</p><ul>    <li>Current Status of the AC44 Process&nbsp;&nbsp;</li>    <li>Transportation Chapter Draft&nbsp;</li></ul><p>This session is designed to empower you with knowledge and encourage your active participation in shaping our community's future. Don’t miss this opportunity to be part of the conversation!&nbsp;<br><br>Attendees will be invited to visit stations dedicated to topics within the Transportation Chapter. Staff from Community Development will be available to answer questions and listen to your feedback on the various topics.&nbsp;</p><h2>New to the AC44 Project?&nbsp;</h2><p>The AC44 Comprehensive Plan is currently in Phase 3 of development, focusing on plan rollout, drafting chapter content and actions for each topic, and engagement. Plan content will be organized into four parts: Community Vision and Needs, Growth Management Framework, Implementation, and Appendix.&nbsp;</p>
X-ALT-DESC;FMTTYPE=text/html:<p>Everyone is invited to join us for an informative presentation on the AC44 Comprehensive Plan where community members will gain valuable insights into the following key areas:&nbsp;</p><ul>    <li>Current Status of the AC44 Process&nbsp;&nbsp;</li>    <li>Transportation Chapter Draft&nbsp;</li></ul><p>This session is designed to empower you with knowledge and encourage your active participation in shaping our community's future. Don’t miss this opportunity to be part of the conversation!&nbsp;<br><br>Attendees will be invited to visit stations dedicated to topics within the Transportation Chapter. Staff from Community Development will be available to answer questions and listen to your feedback on the various topics.&nbsp;</p><h2>New to the AC44 Project?&nbsp;</h2><p>The AC44 Comprehensive Plan is currently in Phase 3 of development, focusing on plan rollout, drafting chapter content and actions for each topic, and engagement. Plan content will be organized into four parts: Community Vision and Needs, Growth Management Framework, Implementation, and Appendix.&nbsp;</p>
LOCATION:Journey Middle School\, 210 Lambs Ln Charlottesville\, Virginia 22901
CLASS:PUBLIC
END:VEVENT
END:VCALENDAR
