BEGIN:VCALENDAR
VERSION:2.0
PRODID:Albemarle County, VA Calendar Creator
METHOD:PUBLISH
BEGIN:VEVENT
DTSTAMP:20250327T122622
DTSTART:20250424T120000
DTEND:20250424T130000
SUMMARY:AC44 Lunch and Learn: Housing and Community Facilities
DESCRIPTION:<p>Join Albemarle County staff online for our fourth AC44 Lunch &amp; Learn event on Thursday, April 24, from 12-1 pm. We’ll start with a brief presentation followed by an extended Q&amp;A period. The presentation will focus on two chapters: Housing and Community Facilities. Community members will learn more about the following: &nbsp;</p><p><div><ul>    <li><strong>How we are planning for and encouraging a variety of housing options:</strong>&nbsp;Learn about the topics addressed in the Housing chapter and how this chapter relates to&nbsp;<a href="https://www.albemarle.org/government/human-services/office-of-housing/housing-albemarle-2010" rel="noopener noreferrer" target="_blank">Housing Albemarle</a>, the County's housing policy. &nbsp;</li>    <li><strong>How the County and partner agencies and organizations plan for equitable and cost-effective services and facilities, consistent with the Growth Management Policy:</strong>&nbsp;Learn about how we plan for the needs of current and future community members, including for public water and sewer, public schools, solid waste, and libraries.</li>    <li><strong>Overarching Goal, Objectives, and Actions for both chapters:&nbsp;</strong>Learn what we want our community to be like in 2044, what we need to achieve to get there, and how we will implement the Comp Plan.</li>    <li><strong>Future Engagement and Feedback Opportunities:</strong>&nbsp;Understand how to stay engaged and provide feedback on the Comprehensive Plan and upcoming steps in the draft document rollout.</li></ul></div></p><p>This session is designed to share knowledge and encourage your active participation in shaping our community’s future. Don’t miss this opportunity to join the conversation!&nbsp;<a href="https://albemarle-org.zoom.us/webinar/register/WN_5Aq0w1DbQtSV7SmYLxGugg#/registration" rel="noopener noreferrer" target="_blank">Register here</a>.</p><p>New to the AC44 Project? Learn more about AC44, the process, and ways you can participate at:&nbsp;<u><a href="http://www.albemarle.org/AC44" rel="noopener noreferrer" target="_blank" title="http://www.albemarle.org/AC44">http://www.albemarle.org/AC44</a></u></p>
X-ALT-DESC;FMTTYPE=text/html:<p>Join Albemarle County staff online for our fourth AC44 Lunch &amp; Learn event on Thursday, April 24, from 12-1 pm. We’ll start with a brief presentation followed by an extended Q&amp;A period. The presentation will focus on two chapters: Housing and Community Facilities. Community members will learn more about the following: &nbsp;</p><p><div><ul>    <li><strong>How we are planning for and encouraging a variety of housing options:</strong>&nbsp;Learn about the topics addressed in the Housing chapter and how this chapter relates to&nbsp;<a href="https://www.albemarle.org/government/human-services/office-of-housing/housing-albemarle-2010" rel="noopener noreferrer" target="_blank">Housing Albemarle</a>, the County's housing policy. &nbsp;</li>    <li><strong>How the County and partner agencies and organizations plan for equitable and cost-effective services and facilities, consistent with the Growth Management Policy:</strong>&nbsp;Learn about how we plan for the needs of current and future community members, including for public water and sewer, public schools, solid waste, and libraries.</li>    <li><strong>Overarching Goal, Objectives, and Actions for both chapters:&nbsp;</strong>Learn what we want our community to be like in 2044, what we need to achieve to get there, and how we will implement the Comp Plan.</li>    <li><strong>Future Engagement and Feedback Opportunities:</strong>&nbsp;Understand how to stay engaged and provide feedback on the Comprehensive Plan and upcoming steps in the draft document rollout.</li></ul></div></p><p>This session is designed to share knowledge and encourage your active participation in shaping our community’s future. Don’t miss this opportunity to join the conversation!&nbsp;<a href="https://albemarle-org.zoom.us/webinar/register/WN_5Aq0w1DbQtSV7SmYLxGugg#/registration" rel="noopener noreferrer" target="_blank">Register here</a>.</p><p>New to the AC44 Project? Learn more about AC44, the process, and ways you can participate at:&nbsp;<u><a href="http://www.albemarle.org/AC44" rel="noopener noreferrer" target="_blank" title="http://www.albemarle.org/AC44">http://www.albemarle.org/AC44</a></u></p>
LOCATION:Online via Zoom\, 
CLASS:PUBLIC
END:VEVENT
END:VCALENDAR
