BEGIN:VCALENDAR
VERSION:2.0
PRODID:Albemarle County, VA Calendar Creator
METHOD:PUBLISH
BEGIN:VEVENT
DTSTAMP:20250217T161612
DTSTART:20250227T120000
DTEND:20250227T130000
SUMMARY:AC44 Lunch and Learn: Thriving Economy
DESCRIPTION:<p>Join Albemarle County staff online for our third AC44 Lunch &amp; Learn event on Thursday, February 27, from 12-1 pm. We’ll start with a brief presentation followed by an extended Q&amp;A period. The presentation will focus on the Thriving Economy chapter, and community members will learn more about the following:&nbsp;&nbsp;</p><ul>    <li><strong>How we are planning for a thriving local economy</strong>: Learn about the topics addressed in this chapter, including land use and economic development and recent local initiatives.&nbsp;</li>    <li><strong>Overarching Goal, Objectives, and Actions</strong>: Learn what we want our community to be like in 2044, what we need to achieve to get there, and how we will implement the Comp Plan.&nbsp;</li>    <li><strong>Future Engagement and Feedback Opportunities</strong>: Understand how to stay engaged and provide feedback on the Comprehensive Plan and upcoming steps in the draft document rollout.&nbsp;&nbsp;</li></ul><p>This session is designed to share knowledge and encourage your active participation in shaping our community’s future. Don’t miss this opportunity to join the conversation!&nbsp;<a href="https://albemarle-org.zoom.us/webinar/register/WN_hD1C4Yc5SL-2o9yUWFexTQ" rel="noopener noreferrer" target="_blank">Register here</a>.</p><p>New to the AC44 Project? Learn more about AC44, the process, and ways you can participate at:&nbsp;<u><a href="http://www.albemarle.org/AC44" rel="noopener noreferrer" target="_blank" title="http://www.albemarle.org/AC44">http://www.albemarle.org/AC44</a></u></p>
X-ALT-DESC;FMTTYPE=text/html:<p>Join Albemarle County staff online for our third AC44 Lunch &amp; Learn event on Thursday, February 27, from 12-1 pm. We’ll start with a brief presentation followed by an extended Q&amp;A period. The presentation will focus on the Thriving Economy chapter, and community members will learn more about the following:&nbsp;&nbsp;</p><ul>    <li><strong>How we are planning for a thriving local economy</strong>: Learn about the topics addressed in this chapter, including land use and economic development and recent local initiatives.&nbsp;</li>    <li><strong>Overarching Goal, Objectives, and Actions</strong>: Learn what we want our community to be like in 2044, what we need to achieve to get there, and how we will implement the Comp Plan.&nbsp;</li>    <li><strong>Future Engagement and Feedback Opportunities</strong>: Understand how to stay engaged and provide feedback on the Comprehensive Plan and upcoming steps in the draft document rollout.&nbsp;&nbsp;</li></ul><p>This session is designed to share knowledge and encourage your active participation in shaping our community’s future. Don’t miss this opportunity to join the conversation!&nbsp;<a href="https://albemarle-org.zoom.us/webinar/register/WN_hD1C4Yc5SL-2o9yUWFexTQ" rel="noopener noreferrer" target="_blank">Register here</a>.</p><p>New to the AC44 Project? Learn more about AC44, the process, and ways you can participate at:&nbsp;<u><a href="http://www.albemarle.org/AC44" rel="noopener noreferrer" target="_blank" title="http://www.albemarle.org/AC44">http://www.albemarle.org/AC44</a></u></p>
LOCATION:Online via Zoom\, 
CLASS:PUBLIC
END:VEVENT
END:VCALENDAR
