BEGIN:VCALENDAR
VERSION:2.0
PRODID:Albemarle County, VA Calendar Creator
METHOD:PUBLISH
BEGIN:VEVENT
DTSTAMP:20241126T095924
DTSTART:20241212T120000
DTEND:20241212T130000
SUMMARY:AC44 Lunch and Learn: Rural Area Land Use
DESCRIPTION:<p>Join Albemarle County staff online for our second AC44 Lunch &amp; Learn event on&nbsp;Thursday, December 12, from 12-1 pm. We’ll start with a brief presentation followed by an extended Q&amp;A period. The presentation will focus on the&nbsp;<u><a href="https://engage.albemarle.org/ac44-phase-three/news_feed/draft-chapter-rural-area-land-use" rel="noopener noreferrer" target="_blank" title="https://engage.albemarle.org/ac44-phase-three/news_feed/draft-chapter-rural-area-land-use">Rural Area Land Use</a></u>&nbsp;chapter, and community members will learn more about the following: &nbsp;</p><ul>    <li>    <p><strong>Land Use Planning for the Rural Area:</strong> Delve into specific land use topics to preserve our local natural environment, support agriculture, and protect various historic, scenic, and cultural resources.</p>    </li>    <li>    <p><strong>Overarching Goal, Objectives, and Actions:</strong> Learn what we want our community to be like in 2044, what we need to achieve to get there, and how we will implement the Comp Plan.</p>    </li>    <li>    <p><strong>Future Engagement and Feedback Opportunities:</strong> Understand how to stay engaged and provide feedback on the Comprehensive Plan and upcoming steps in the draft document rollout. &nbsp;</p>    </li></ul><p>This session is designed to share knowledge and encourage your active participation in shaping our community’s future. Don’t miss this opportunity to be part of the conversation!&nbsp;<a href="https://albemarle-org.zoom.us/webinar/register/WN_vfI3uaDBQOSvTv4hXA4E-w" rel="noopener noreferrer" target="_blank" title="https://albemarle-org.zoom.us/webinar/register/WN_vfI3uaDBQOSvTv4hXA4E-w">Register here</a>.</p><p>New to the AC44 Project? Learn more about AC44, the process, and ways you can participate at:&nbsp;<u><a href="http://www.albemarle.org/AC44" rel="noopener noreferrer" target="_blank" title="http://www.albemarle.org/AC44">http://www.albemarle.org/AC44</a></u></p>
X-ALT-DESC;FMTTYPE=text/html:<p>Join Albemarle County staff online for our second AC44 Lunch &amp; Learn event on&nbsp;Thursday, December 12, from 12-1 pm. We’ll start with a brief presentation followed by an extended Q&amp;A period. The presentation will focus on the&nbsp;<u><a href="https://engage.albemarle.org/ac44-phase-three/news_feed/draft-chapter-rural-area-land-use" rel="noopener noreferrer" target="_blank" title="https://engage.albemarle.org/ac44-phase-three/news_feed/draft-chapter-rural-area-land-use">Rural Area Land Use</a></u>&nbsp;chapter, and community members will learn more about the following: &nbsp;</p><ul>    <li>    <p><strong>Land Use Planning for the Rural Area:</strong> Delve into specific land use topics to preserve our local natural environment, support agriculture, and protect various historic, scenic, and cultural resources.</p>    </li>    <li>    <p><strong>Overarching Goal, Objectives, and Actions:</strong> Learn what we want our community to be like in 2044, what we need to achieve to get there, and how we will implement the Comp Plan.</p>    </li>    <li>    <p><strong>Future Engagement and Feedback Opportunities:</strong> Understand how to stay engaged and provide feedback on the Comprehensive Plan and upcoming steps in the draft document rollout. &nbsp;</p>    </li></ul><p>This session is designed to share knowledge and encourage your active participation in shaping our community’s future. Don’t miss this opportunity to be part of the conversation!&nbsp;<a href="https://albemarle-org.zoom.us/webinar/register/WN_vfI3uaDBQOSvTv4hXA4E-w" rel="noopener noreferrer" target="_blank" title="https://albemarle-org.zoom.us/webinar/register/WN_vfI3uaDBQOSvTv4hXA4E-w">Register here</a>.</p><p>New to the AC44 Project? Learn more about AC44, the process, and ways you can participate at:&nbsp;<u><a href="http://www.albemarle.org/AC44" rel="noopener noreferrer" target="_blank" title="http://www.albemarle.org/AC44">http://www.albemarle.org/AC44</a></u></p>
LOCATION:
CLASS:PUBLIC
END:VEVENT
END:VCALENDAR
