BEGIN:VCALENDAR
VERSION:2.0
PRODID:Albemarle County, VA Calendar Creator
METHOD:PUBLISH
BEGIN:VEVENT
DTSTAMP:20241022T164300
DTSTART:20241030T180000
DTEND:20241030T200000
SUMMARY:AC44 Community Check-In at the All-CAC Meeting
DESCRIPTION:<p>Everyone is invited to join us for an informative presentation on the AC44 Comprehensive Plan where community members will gain valuable insights into the following key areas:</p><ul>    <li>Current Status of the AC44 Process: Understand where we stand in the development of the comprehensive plan and what steps are next in the rollout.</li>    <li>Growth Management Policy: Explore the overarching guidance that shapes our land use and development strategies, including how these policies apply to both rural and development areas.</li>    <li>Land Use Topics: Delve into specific land use categories, including the future land use map and the importance of activity centers in promoting density and multimodal transportation.&nbsp;</li></ul><p>This session is designed to empower you with knowledge and encourage your active participation in shaping our community's future. Don’t miss this opportunity to be part of the conversation!</p><p><a href="https://albemarle1.prod-as.govaccess.org/home/showpublisheddocument/24203/638651976266630000" target="_blank">Agenda</a> | <a href="https://forms.office.com/g/sMcmXM5Uvg" target="_blank">RSVP</a> | Minutes | Recording</p><h2>New to the AC44 Project?</h2><p>The AC44 Comprehensive Plan is currently in Phase 3 of development, focusing on plan rollout, action development, and engagement. The plan will be rolled out in four parts: Community Vision and Needs, Growth Management Framework, Implementation, and Appendix.</p><h2><span style="color: rgb(85, 85, 85); font-size: 16px;"></span></h2><p>Learn more about the project, process, and ways you can participate at ⁠<a href="http://engage.albemarle.org/AC44" title="http://engage.albemarle.org/AC44">albemarle.org/AC44</a></p>
X-ALT-DESC;FMTTYPE=text/html:<p>Everyone is invited to join us for an informative presentation on the AC44 Comprehensive Plan where community members will gain valuable insights into the following key areas:</p><ul>    <li>Current Status of the AC44 Process: Understand where we stand in the development of the comprehensive plan and what steps are next in the rollout.</li>    <li>Growth Management Policy: Explore the overarching guidance that shapes our land use and development strategies, including how these policies apply to both rural and development areas.</li>    <li>Land Use Topics: Delve into specific land use categories, including the future land use map and the importance of activity centers in promoting density and multimodal transportation.&nbsp;</li></ul><p>This session is designed to empower you with knowledge and encourage your active participation in shaping our community's future. Don’t miss this opportunity to be part of the conversation!</p><p><a href="https://albemarle1.prod-as.govaccess.org/home/showpublisheddocument/24203/638651976266630000" target="_blank">Agenda</a> | <a href="https://forms.office.com/g/sMcmXM5Uvg" target="_blank">RSVP</a> | Minutes | Recording</p><h2>New to the AC44 Project?</h2><p>The AC44 Comprehensive Plan is currently in Phase 3 of development, focusing on plan rollout, action development, and engagement. The plan will be rolled out in four parts: Community Vision and Needs, Growth Management Framework, Implementation, and Appendix.</p><h2><span style="color: rgb(85, 85, 85); font-size: 16px;"></span></h2><p>Learn more about the project, process, and ways you can participate at ⁠<a href="http://engage.albemarle.org/AC44" title="http://engage.albemarle.org/AC44">albemarle.org/AC44</a></p>
LOCATION:County Office Building (Lane Auditorium)\, 401 McIntire Road Charlottesville\, Virginia 22902
CLASS:PUBLIC
END:VEVENT
END:VCALENDAR
