BEGIN:VCALENDAR
VERSION:2.0
PRODID:Albemarle County, VA Calendar Creator
METHOD:PUBLISH
BEGIN:VEVENT
DTSTAMP:20240208T145834
DTSTART:20240212T150000
DTEND:20240212T170000
SUMMARY:AC44 - Land Use, Transportation, and Health in the Rural Area
DESCRIPTION:<p>This meeting is an opportunity to share feedback on draft transportation and land use recommendations for Albemarle County’s Rural Area. Discussion topics will include land conservation programs, crossroads communities, resilience hubs, rural transportation planning, and community health and wellbeing. The AC44 team will share a presentation on these Rural Area topics, followed by questions and discussion.</p>
X-ALT-DESC;FMTTYPE=text/html:<p>This meeting is an opportunity to share feedback on draft transportation and land use recommendations for Albemarle County’s Rural Area. Discussion topics will include land conservation programs, crossroads communities, resilience hubs, rural transportation planning, and community health and wellbeing. The AC44 team will share a presentation on these Rural Area topics, followed by questions and discussion.</p>
LOCATION:Yancey Community Center\, 7625 Porters Rd Esmont\, Virginia 22937
CLASS:PUBLIC
END:VEVENT
END:VCALENDAR
