BEGIN:VCALENDAR
VERSION:2.0
PRODID:Albemarle County, VA Calendar Creator
METHOD:PUBLISH
BEGIN:VEVENT
DTSTAMP:20240116T093535
DTSTART:20240124T180000
DTEND:20240124T200000
SUMMARY:AC44 - Land Use and Transportation in the Rural Area
DESCRIPTION:This meeting is an opportunity to share feedback on draft transportation and land use recommendations for Albemarle County’s Rural Area. Discussion topics will include land conservation programs, crossroads communities, resilience hubs, and rural transportation planning. The AC44 team will share a presentation on these Rural Area topics, followed by questions and discussion.
X-ALT-DESC;FMTTYPE=text/html:This meeting is an opportunity to share feedback on draft transportation and land use recommendations for Albemarle County’s Rural Area. Discussion topics will include land conservation programs, crossroads communities, resilience hubs, and rural transportation planning. The AC44 team will share a presentation on these Rural Area topics, followed by questions and discussion.
LOCATION:Batesville United Methodist Church\, 6670 Plank Rd Afton\, Virginia 22920
CLASS:PUBLIC
END:VEVENT
END:VCALENDAR
