BEGIN:VCALENDAR
VERSION:2.0
PRODID:Albemarle County, VA Calendar Creator
METHOD:PUBLISH
BEGIN:VEVENT
DTSTAMP:20231103T131654
DTSTART:20231106T180000
DTEND:20231106T193000
SUMMARY:AC44 Virtual Open House: Comprehensive Plan Goals & Objectives
DESCRIPTION:<p></p><p>This virtual open house will offer opportunities to learn about and share input on draft Goals and Objectives for the following five Comprehensive Plan chapters: Environmental Stewardship, Parks and Recreation, Historic, Scenic, and Cultural Resources, Housing, and Economic Development. Attendees will be able to move between breakout rooms for each Plan chapter.&nbsp;<br><br>This meeting may be attended by members of County public bodies.</p><p><a href="https://engage.albemarle.org/ac44" target="_blank">Visit the Project Website</a></p><p><a href="https://albemarle-org.zoom.us/meeting/register/tZAsd-qpqjktHdTD1CaZM1uoPWmL7Ie5Efjm#/registration" target="_blank">Register for the Virtual Event</a></p>
X-ALT-DESC;FMTTYPE=text/html:<p></p><p>This virtual open house will offer opportunities to learn about and share input on draft Goals and Objectives for the following five Comprehensive Plan chapters: Environmental Stewardship, Parks and Recreation, Historic, Scenic, and Cultural Resources, Housing, and Economic Development. Attendees will be able to move between breakout rooms for each Plan chapter.&nbsp;<br><br>This meeting may be attended by members of County public bodies.</p><p><a href="https://engage.albemarle.org/ac44" target="_blank">Visit the Project Website</a></p><p><a href="https://albemarle-org.zoom.us/meeting/register/tZAsd-qpqjktHdTD1CaZM1uoPWmL7Ie5Efjm#/registration" target="_blank">Register for the Virtual Event</a></p>
LOCATION:Virtual Meeting via Zoom\, 
CLASS:PUBLIC
END:VEVENT
END:VCALENDAR
