BEGIN:VCALENDAR
VERSION:2.0
PRODID:Albemarle County, VA Calendar Creator
METHOD:PUBLISH
BEGIN:VEVENT
DTSTAMP:20240620T144348
DTSTART:20240722T181500
DTEND:20240722T235900
SUMMARY:**CANCELED** Pantops Community Advisory Committee Meeting
DESCRIPTION:<h3>Meeting Materials</h3><p>Agenda | Minutes | Additional Materials</p><h3>Staff Contact</h3><p>For more information, please contact&nbsp;<a href="mailto:&#107;&#106;&#111;&#110;&#101;&#115;9&#64;&#97;&#108;&#98;&#101;&#109;&#97;&#114;&#108;&#101;&#46;&#111;&#114;&#103;">Khalilah Jones</a></p><p><a href="https://albemarle1.prod-as.govaccess.org/government/community-development/boards-and-commissions/pantops-community-advisory-committee">Visit the </a><a href="https://albemarle1.prod-as.govaccess.org/government/community-development/boards-and-commissions/pantops-community-advisory-committee">Pantops Community Advisory Committee</a><a href="https://albemarle1.prod-as.govaccess.org/government/community-development/boards-and-commissions/pantops-community-advisory-committee">&nbsp;webpage</a></p>
X-ALT-DESC;FMTTYPE=text/html:<h3>Meeting Materials</h3><p>Agenda | Minutes | Additional Materials</p><h3>Staff Contact</h3><p>For more information, please contact&nbsp;<a href="mailto:&#107;&#106;&#111;&#110;&#101;&#115;9&#64;&#97;&#108;&#98;&#101;&#109;&#97;&#114;&#108;&#101;&#46;&#111;&#114;&#103;">Khalilah Jones</a></p><p><a href="https://albemarle1.prod-as.govaccess.org/government/community-development/boards-and-commissions/pantops-community-advisory-committee">Visit the </a><a href="https://albemarle1.prod-as.govaccess.org/government/community-development/boards-and-commissions/pantops-community-advisory-committee">Pantops Community Advisory Committee</a><a href="https://albemarle1.prod-as.govaccess.org/government/community-development/boards-and-commissions/pantops-community-advisory-committee">&nbsp;webpage</a></p>
LOCATION:Martha Jefferson Hospital Outpatient Center - Kessler Conference Room\, 595 Martha Jefferson Drive Charlottesville\, Virginia 22911
CLASS:PUBLIC
END:VEVENT
END:VCALENDAR
