BEGIN:VCALENDAR
VERSION:2.0
PRODID:Albemarle County, VA Calendar Creator
METHOD:PUBLISH
BEGIN:VEVENT
DTSTAMP:20231130T121837
DTSTART:20231204T181500
DTEND:20231204T235900
SUMMARY:*Canceled* Pantops Community Advisory Committee Meeting
DESCRIPTION:<h3>Meeting Materials</h3><p><a href="https://albemarle1.prod-as.govaccess.org/home/showpublisheddocument/19633/638606124700470000" target="_blank">Agenda</a> | Minutes | <a href="https://albemarle1.prod-as.govaccess.org/home/showpublisheddocument/19891/638367744277770000" target="_blank">Additional Materials&nbsp;|&nbsp;</a><a href="https://albemarle1.prod-as.govaccess.org/home/showpublisheddocument/19893/638367745103370000" target="_blank">Additional Materials</a></p><h3>Staff Contact</h3><p>For more information, please contact&nbsp;<a href="mailto:&#107;&#106;&#111;&#110;&#101;&#115;9&#64;&#97;&#108;&#98;&#101;&#109;&#97;&#114;&#108;&#101;&#46;&#111;&#114;&#103;">Khalilah Jones</a></p><p><a href="https://albemarle1.prod-as.govaccess.org/government/community-development/boards-and-commissions/pantops-community-advisory-committee">Visit the </a><a href="https://albemarle1.prod-as.govaccess.org/government/community-development/boards-and-commissions/pantops-community-advisory-committee">Pantops Community Advisory Committee</a><a href="https://albemarle1.prod-as.govaccess.org/government/community-development/boards-and-commissions/pantops-community-advisory-committee">&nbsp;webpage</a></p>
X-ALT-DESC;FMTTYPE=text/html:<h3>Meeting Materials</h3><p><a href="https://albemarle1.prod-as.govaccess.org/home/showpublisheddocument/19633/638606124700470000" target="_blank">Agenda</a> | Minutes | <a href="https://albemarle1.prod-as.govaccess.org/home/showpublisheddocument/19891/638367744277770000" target="_blank">Additional Materials&nbsp;|&nbsp;</a><a href="https://albemarle1.prod-as.govaccess.org/home/showpublisheddocument/19893/638367745103370000" target="_blank">Additional Materials</a></p><h3>Staff Contact</h3><p>For more information, please contact&nbsp;<a href="mailto:&#107;&#106;&#111;&#110;&#101;&#115;9&#64;&#97;&#108;&#98;&#101;&#109;&#97;&#114;&#108;&#101;&#46;&#111;&#114;&#103;">Khalilah Jones</a></p><p><a href="https://albemarle1.prod-as.govaccess.org/government/community-development/boards-and-commissions/pantops-community-advisory-committee">Visit the </a><a href="https://albemarle1.prod-as.govaccess.org/government/community-development/boards-and-commissions/pantops-community-advisory-committee">Pantops Community Advisory Committee</a><a href="https://albemarle1.prod-as.govaccess.org/government/community-development/boards-and-commissions/pantops-community-advisory-committee">&nbsp;webpage</a></p>
LOCATION:Martha Jefferson Hospital Outpatient Center - Kessler Conference Room\, 595 Martha Jefferson Drive Charlottesville\, Virginia 22911
CLASS:PUBLIC
END:VEVENT
END:VCALENDAR
