BEGIN:VCALENDAR
VERSION:2.0
PRODID:Albemarle County, VA Calendar Creator
METHOD:PUBLISH
BEGIN:VEVENT
DTSTAMP:20230707T135424
DTSTART:20230712T180000
DTEND:20230712T200000
SUMMARY:AC44 Virtual Open House (and All-CAC Meeting)
DESCRIPTION:<p>Did you miss an Open House because you couldn't make it in person? If so, we've created a virtual option! Join us to get an update on the <a href="https://engage.albemarle.org/phase2" target="_blank" data-link-type="web">Comprehensive Plan Update</a> project and visit a variety of virtual "rooms" to learn about the four topics, ask questions, and share your feedback.</p><p><a href="https://albemarle-org.zoom.us/meeting/register/tZMtdO6vrDsiGdxly5zO8aoa4X0iWnnbQh18" target="_blank">Register Here to Attend</a></p><p>About the All-Community Advisory Committee (CAC) Meeting</p><p>We hope all CAC members will attend this virtual event to receive an update about the project and meet with our planning team. To comply with public meeting requirements, prior to beginning the Open House, each CAC Chair will call your committee to order.</p><p><a href="https://albemarle1.prod-as.govaccess.org/home/showpublisheddocument/18379/638242357145270000" target="_blank">Agenda</a></p>
X-ALT-DESC;FMTTYPE=text/html:<p>Did you miss an Open House because you couldn't make it in person? If so, we've created a virtual option! Join us to get an update on the <a href="https://engage.albemarle.org/phase2" target="_blank" data-link-type="web">Comprehensive Plan Update</a> project and visit a variety of virtual "rooms" to learn about the four topics, ask questions, and share your feedback.</p><p><a href="https://albemarle-org.zoom.us/meeting/register/tZMtdO6vrDsiGdxly5zO8aoa4X0iWnnbQh18" target="_blank">Register Here to Attend</a></p><p>About the All-Community Advisory Committee (CAC) Meeting</p><p>We hope all CAC members will attend this virtual event to receive an update about the project and meet with our planning team. To comply with public meeting requirements, prior to beginning the Open House, each CAC Chair will call your committee to order.</p><p><a href="https://albemarle1.prod-as.govaccess.org/home/showpublisheddocument/18379/638242357145270000" target="_blank">Agenda</a></p>
LOCATION:Virtual Meeting via Zoom\, 
CLASS:PUBLIC
END:VEVENT
END:VCALENDAR
