BEGIN:VCALENDAR
VERSION:2.0
PRODID:Albemarle County, VA Calendar Creator
METHOD:PUBLISH
BEGIN:VEVENT
DTSTAMP:20230307T145950
DTSTART:20230316T123000
DTEND:20230316T143000
SUMMARY:AC44 Community Pop Up: Crozet Library
DESCRIPTION:<p><strong>What do you want for the future of Albemarle County?&nbsp;</strong>Stop by a community pop-up to <a href="https://engage.albemarle.org/phase2" target="_blank">share your thoughts</a> on transportation, housing, parks, and more!</p><p>Curious about a pop-up? We design these events to be fun and inviting! We'll ask you a question about a topic of your choosing. Feeling shy? You can write your answer down. Feeling chatty? We're happy to have a conversation with you! The point of the pop-up is to make the Comprehensive Plan project accessible to a wide variety of folks so the plan can reflect our community - that's you!</p><p>Look for the&nbsp;<a aria-label="Link Let's Talk Albemarle" ___1qmgydl="" f3rmtva="" f1ewtqcl="" fyind8e="" f1k6fduh="" f1w7gpdv="" fk6fouc="" fjoy568="" figsok6="" f1hu3pq6="" f11qmguv="" f19f4twv="" f1tyq0we="" f1g0x7ka="" fhxju0i="" f1qch9an="" f1cnd47f="" fqv5qza="" f1vmzxwi="" f1o700av="" f13mvf36="" f1cmlufx="" f9n3di6="" f1ids18y="" f1tx3yz7="" f1deo86v="" f1eh06m1="" f1iescvh="" ftqa4ok="" f2hkw1w="" fhgqx19="" f1olyrje="" f1p93eir="" f1h8hb77="" f1x7u7e9="" f10aw75t="" fsle3fq="" external"="" href="http://www.albemarle.org/lets-talk" rel="noreferrer noopener" target="_blank" title="http://www.albemarle.org/lets-talk">Let's Talk Albemarle</a>&nbsp;Van.&nbsp;</p><p><em>Please note this event is weather dependent and will be canceled in the event of inclement weather.</em></p><p><em>&nbsp;</em></p><p><em>&nbsp;</em></p>
X-ALT-DESC;FMTTYPE=text/html:<p><strong>What do you want for the future of Albemarle County?&nbsp;</strong>Stop by a community pop-up to <a href="https://engage.albemarle.org/phase2" target="_blank">share your thoughts</a> on transportation, housing, parks, and more!</p><p>Curious about a pop-up? We design these events to be fun and inviting! We'll ask you a question about a topic of your choosing. Feeling shy? You can write your answer down. Feeling chatty? We're happy to have a conversation with you! The point of the pop-up is to make the Comprehensive Plan project accessible to a wide variety of folks so the plan can reflect our community - that's you!</p><p>Look for the&nbsp;<a aria-label="Link Let's Talk Albemarle" ___1qmgydl="" f3rmtva="" f1ewtqcl="" fyind8e="" f1k6fduh="" f1w7gpdv="" fk6fouc="" fjoy568="" figsok6="" f1hu3pq6="" f11qmguv="" f19f4twv="" f1tyq0we="" f1g0x7ka="" fhxju0i="" f1qch9an="" f1cnd47f="" fqv5qza="" f1vmzxwi="" f1o700av="" f13mvf36="" f1cmlufx="" f9n3di6="" f1ids18y="" f1tx3yz7="" f1deo86v="" f1eh06m1="" f1iescvh="" ftqa4ok="" f2hkw1w="" fhgqx19="" f1olyrje="" f1p93eir="" f1h8hb77="" f1x7u7e9="" f10aw75t="" fsle3fq="" external"="" href="http://www.albemarle.org/lets-talk" rel="noreferrer noopener" target="_blank" title="http://www.albemarle.org/lets-talk">Let's Talk Albemarle</a>&nbsp;Van.&nbsp;</p><p><em>Please note this event is weather dependent and will be canceled in the event of inclement weather.</em></p><p><em>&nbsp;</em></p><p><em>&nbsp;</em></p>
LOCATION:Crozet Library\, 2020 Library Avenue Crozet\, Virginia 22932
CLASS:PUBLIC
END:VEVENT
END:VCALENDAR
