BEGIN:VCALENDAR
VERSION:2.0
PRODID:Albemarle County, VA Calendar Creator
METHOD:PUBLISH
BEGIN:VEVENT
DTSTAMP:20220603T115823
DTSTART:20220617T120000
DTEND:20220617T130000
SUMMARY:AC44 Virtual Office Hours
DESCRIPTION:<p>Stop by our virtual office open house to share your thoughts on planning for growth in Albemarle County! Our AC44 Comp Plan team will be available to share information about the County's <a href="http://https//engage.albemarle.org/ac44-growth-management" target="_blank">current growth management policy</a>, recent development trends in the county, and how our Development Areas may potentially build out in the future. We will be asking community members to share input on various options for growth management in our county, and how these options impact equity, climate action, and other quality of life factors.</p><p><a href="https://albemarle-org.zoom.us/j/82306144352" target="_blank">Click here to attend the Zoom webinar</a> <br><br>Prefer to join by phone? Dial 833-548-0282, Meeting ID: 823 0614 4352<br><br>Need help joining the meeting? Contact <a href="mailto:&#99;&#115;&#104;&#97;&#102;&#102;&#101;&#114;2&#64;&#97;&#108;&#98;&#101;&#109;&#97;&#114;&#108;&#101;&#46;&#111;&#114;&#103;">Carolyn Shaffer</a><br>Questions for the project team? Contact <a href="mailto:&#97;&#99;44&#64;&#97;&#108;&#98;&#101;&#109;&#97;&#114;&#108;&#101;&#46;&#111;&#114;&#103;&#63;&#115;&#117;&#98;&#106;&#101;&#99;&#116;&#61;&#81;&#117;&#101;&#115;&#116;&#105;&#111;&#110;&#32;&#97;&#98;&#111;&#117;&#116;&#32;&#79;&#102;&#102;&#105;&#99;&#101;&#32;&#72;&#111;&#117;&#114;&#115;">ac44@albemarle.org</a></p>
X-ALT-DESC;FMTTYPE=text/html:<p>Stop by our virtual office open house to share your thoughts on planning for growth in Albemarle County! Our AC44 Comp Plan team will be available to share information about the County's <a href="http://https//engage.albemarle.org/ac44-growth-management" target="_blank">current growth management policy</a>, recent development trends in the county, and how our Development Areas may potentially build out in the future. We will be asking community members to share input on various options for growth management in our county, and how these options impact equity, climate action, and other quality of life factors.</p><p><a href="https://albemarle-org.zoom.us/j/82306144352" target="_blank">Click here to attend the Zoom webinar</a> <br><br>Prefer to join by phone? Dial 833-548-0282, Meeting ID: 823 0614 4352<br><br>Need help joining the meeting? Contact <a href="mailto:&#99;&#115;&#104;&#97;&#102;&#102;&#101;&#114;2&#64;&#97;&#108;&#98;&#101;&#109;&#97;&#114;&#108;&#101;&#46;&#111;&#114;&#103;">Carolyn Shaffer</a><br>Questions for the project team? Contact <a href="mailto:&#97;&#99;44&#64;&#97;&#108;&#98;&#101;&#109;&#97;&#114;&#108;&#101;&#46;&#111;&#114;&#103;&#63;&#115;&#117;&#98;&#106;&#101;&#99;&#116;&#61;&#81;&#117;&#101;&#115;&#116;&#105;&#111;&#110;&#32;&#97;&#98;&#111;&#117;&#116;&#32;&#79;&#102;&#102;&#105;&#99;&#101;&#32;&#72;&#111;&#117;&#114;&#115;">ac44@albemarle.org</a></p>
LOCATION:
CLASS:PUBLIC
END:VEVENT
END:VCALENDAR
