BEGIN:VCALENDAR
VERSION:2.0
PRODID:Albemarle County, VA Calendar Creator
METHOD:PUBLISH
BEGIN:VEVENT
DTSTAMP:20220401T101242
DTSTART:20220514T110000
DTEND:20220514T140000
SUMMARY:AC44 Community Pop-Up at the Batesville Day Festival
DESCRIPTION:<h2>We are so excited to meet you at the <a href="https://www.batesvilleva.org/batesville-day-detail" target="_blank">Batesville Day Festival</a>!&nbsp;</h2><p>Stop by to share your thoughts on planning for growth in Albemarle County! Our AC44 Comp Plan team will be available to share information about the County’s current&nbsp;<a href="http://engage.albemarle.org/ac44-growth-management">growth management policy</a>, the history of growth management in the County, and how growth management affects our community. We will be asking community members to share their experiences and input on what an updated growth management policy should prioritize.</p><p>Look for the&nbsp;<a href="http://www.albemarle.org/lets-talk" target="_blank">Let's Talk Albemarle</a>&nbsp;Van&nbsp;parked at the Batesville Day Field.</p><p><a href="https://www.batesvilleva.org/batesville-day-detail" target="_blank">Learn more about Batesville Day</a></p><p><em>Please note that this event is weather dependent and will be canceled in the event of inclement weather.</em></p>
X-ALT-DESC;FMTTYPE=text/html:<h2>We are so excited to meet you at the <a href="https://www.batesvilleva.org/batesville-day-detail" target="_blank">Batesville Day Festival</a>!&nbsp;</h2><p>Stop by to share your thoughts on planning for growth in Albemarle County! Our AC44 Comp Plan team will be available to share information about the County’s current&nbsp;<a href="http://engage.albemarle.org/ac44-growth-management">growth management policy</a>, the history of growth management in the County, and how growth management affects our community. We will be asking community members to share their experiences and input on what an updated growth management policy should prioritize.</p><p>Look for the&nbsp;<a href="http://www.albemarle.org/lets-talk" target="_blank">Let's Talk Albemarle</a>&nbsp;Van&nbsp;parked at the Batesville Day Field.</p><p><a href="https://www.batesvilleva.org/batesville-day-detail" target="_blank">Learn more about Batesville Day</a></p><p><em>Please note that this event is weather dependent and will be canceled in the event of inclement weather.</em></p>
LOCATION:Batesville Field\, Plank Road Batesville\, Virginia 22924
CLASS:PUBLIC
END:VEVENT
END:VCALENDAR
